BEGIN:VCALENDAR
VERSION:2.0
PRODID:-//Ail Global  - ECPv6.15.10//NONSGML v1.0//EN
CALSCALE:GREGORIAN
METHOD:PUBLISH
X-ORIGINAL-URL:https://ailglobal.org
X-WR-CALDESC:Events for Ail Global 
REFRESH-INTERVAL;VALUE=DURATION:PT1H
X-Robots-Tag:noindex
X-PUBLISHED-TTL:PT1H
BEGIN:VTIMEZONE
TZID:UTC
BEGIN:STANDARD
TZOFFSETFROM:+0000
TZOFFSETTO:+0000
TZNAME:UTC
DTSTART:20210101T000000
END:STANDARD
END:VTIMEZONE
BEGIN:VEVENT
DTSTART;TZID=UTC:20220802T200000
DTEND;TZID=UTC:20220803T010000
DTSTAMP:20260423T004332
CREATED:20240607T204419Z
LAST-MODIFIED:20240607T204419Z
UID:36916-1659470400-1659488400@ailglobal.org
SUMMARY:Late Night Party
DESCRIPTION:We are excited to share highlights from our recent virtual seminar on the topic of “How to Become a Barrister/Advocate\,” reaffirming AIL’s commitment to providing our members with essential knowledge and training.\n\nThis insightful session featured Mr. Rana Zia Aslam Khan\, President of AIL (Worldwide)\, who shared his extensive expertise alongside our distinguished speaker. Hosted by our General Secretary\, Saeed Ahmad\, the seminar offered invaluable guidance on the journey and requirements to become a legal professional.\n\nWe invite you to view the screenshots capturing key moments from this engaging event.\n\nAt AIL\, we are dedicated to continually offering such enriching experiences and look forward to bringing you more educational and professional development opportunities in the future.\n\n 
URL:https://ailglobal.org/event/late-night-party/
CATEGORIES:Training/Education
END:VEVENT
BEGIN:VEVENT
DTSTART;TZID=UTC:20220707T133000
DTEND;TZID=UTC:20220707T153000
DTSTAMP:20260423T004333
CREATED:20240607T204419Z
LAST-MODIFIED:20240609T201432Z
UID:36913-1657200600-1657207800@ailglobal.org
SUMMARY:Corporate Law and Compliance Conference
DESCRIPTION:We are excited to share highlights from our recent virtual seminar on the topic of “How to Become a Barrister/Advocate\,” reaffirming AIL’s commitment to providing our members with essential knowledge and training.\n\nThis insightful session featured Mr. Rana Zia Aslam Khan\, President of AIL (Worldwide)\, who shared his extensive expertise alongside our distinguished speaker. Hosted by our General Secretary\, Saeed Ahmad\, the seminar offered invaluable guidance on the journey and requirements to become a legal professional.\n\nWe invite you to view the screenshots capturing key moments from this engaging event.\n\nAt AIL\, we are dedicated to continually offering such enriching experiences and look forward to bringing you more educational and professional development opportunities in the future.\n\n 
URL:https://ailglobal.org/event/corporate-law-and-compliance-conference/
CATEGORIES:conferences
ATTACH;FMTTYPE=image/jpeg:https://ailglobal.org/wp-content/uploads/2024/06/globe-1238288-scaled.jpg
ORGANIZER;CN="AIL Global":MAILTO:info@ailglobal.org
END:VEVENT
BEGIN:VEVENT
DTSTART;TZID=UTC:20220706T180000
DTEND;TZID=UTC:20220706T203000
DTSTAMP:20260423T004333
CREATED:20240607T204413Z
LAST-MODIFIED:20240607T204413Z
UID:36909-1657130400-1657139400@ailglobal.org
SUMMARY:Dinner Party
DESCRIPTION:We are excited to share highlights from our recent virtual seminar on the topic of “How to Become a Barrister/Advocate\,” reaffirming AIL’s commitment to providing our members with essential knowledge and training.\n\nThis insightful session featured Mr. Rana Zia Aslam Khan\, President of AIL (Worldwide)\, who shared his extensive expertise alongside our distinguished speaker. Hosted by our General Secretary\, Saeed Ahmad\, the seminar offered invaluable guidance on the journey and requirements to become a legal professional.\n\nWe invite you to view the screenshots capturing key moments from this engaging event.\n\nAt AIL\, we are dedicated to continually offering such enriching experiences and look forward to bringing you more educational and professional development opportunities in the future.\n\n 
URL:https://ailglobal.org/event/dinner-party/
CATEGORIES:Training/Education
END:VEVENT
BEGIN:VEVENT
DTSTART;TZID=UTC:20220701T000000
DTEND;TZID=UTC:20220701T000000
DTSTAMP:20260423T004333
CREATED:20240607T204414Z
LAST-MODIFIED:20240608T083022Z
UID:36911-1656633600-1656633600@ailglobal.org
SUMMARY:Environmental Law and Policy Summit
DESCRIPTION:We are excited to share highlights from our recent virtual seminar on the topic of “How to Become a Barrister/Advocate\,” reaffirming AIL’s commitment to providing our members with essential knowledge and training.\n\nThis insightful session featured Mr. Rana Zia Aslam Khan\, President of AIL (Worldwide)\, who shared his extensive expertise alongside our distinguished speaker. Hosted by our General Secretary\, Saeed Ahmad\, the seminar offered invaluable guidance on the journey and requirements to become a legal professional.\n\nWe invite you to view the screenshots capturing key moments from this engaging event.\n\nAt AIL\, we are dedicated to continually offering such enriching experiences and look forward to bringing you more educational and professional development opportunities in the future.\n\n 
URL:https://ailglobal.org/event/environmental-law-and-policy-summit/
CATEGORIES:conferences
ATTACH;FMTTYPE=image/jpeg:https://ailglobal.org/wp-content/uploads/2024/06/pexels-brett-sayles-5242297-scaled.jpg
END:VEVENT
BEGIN:VEVENT
DTSTART;TZID=UTC:20220625T153000
DTEND;TZID=UTC:20220625T170000
DTSTAMP:20260423T004333
CREATED:20240607T204413Z
LAST-MODIFIED:20240607T204413Z
UID:36908-1656171000-1656176400@ailglobal.org
SUMMARY:Birthday Party
DESCRIPTION:We are excited to share highlights from our recent virtual seminar on the topic of “How to Become a Barrister/Advocate\,” reaffirming AIL’s commitment to providing our members with essential knowledge and training.\n\nThis insightful session featured Mr. Rana Zia Aslam Khan\, President of AIL (Worldwide)\, who shared his extensive expertise alongside our distinguished speaker. Hosted by our General Secretary\, Saeed Ahmad\, the seminar offered invaluable guidance on the journey and requirements to become a legal professional.\n\nWe invite you to view the screenshots capturing key moments from this engaging event.\n\nAt AIL\, we are dedicated to continually offering such enriching experiences and look forward to bringing you more educational and professional development opportunities in the future.\n\n 
URL:https://ailglobal.org/event/birthday-party/
CATEGORIES:Training/Education
END:VEVENT
END:VCALENDAR